BEGIN:VCALENDAR
VERSION:2.0
PRODID:-//Mudenbach
CALSCALE:GREGORIAN
METHOD:PUBLISH
X-WR-CALNAME:Mudenbach
X-ORIGINAL-URL:https://mudenbach.com/produkt/sprechstunde-buergermeisterin-17/
X-WR-CALDESC:Sprechstunde Bürgermeisterin
BEGIN:VEVENT
DTSTART;TZID=Europe/Helsinki:20210628T180000
DTEND;TZID=Europe/Helsinki:20210628T190000
SUMMARY:Sprechstunde Bürgermeisterin
DESCRIPTION:
URL:https://mudenbach.com/produkt/sprechstunde-buergermeisterin-17/
LOCATION:
END:VEVENT
END:VCALENDAR
