BEGIN:VCALENDAR
VERSION:2.0
PRODID:-//Mudenbach
CALSCALE:GREGORIAN
METHOD:PUBLISH
X-WR-CALNAME:Mudenbach
X-ORIGINAL-URL:https://mudenbach.com/produkt/wahlen-am-14-03-2021/
X-WR-CALDESC:Wahlen am 14.03.2021
BEGIN:VEVENT
DTSTART;TZID=Europe/Helsinki:20210314T080000
DTEND;TZID=Europe/Helsinki:20210314T180000
SUMMARY:Wahlen am 14.03.2021
DESCRIPTION:
URL:https://mudenbach.com/produkt/wahlen-am-14-03-2021/
LOCATION:
END:VEVENT
END:VCALENDAR
