BEGIN:VCALENDAR
VERSION:2.0
PRODID:-//Mudenbach
CALSCALE:GREGORIAN
METHOD:PUBLISH
X-WR-CALNAME:Mudenbach
X-ORIGINAL-URL:https://mudenbach.com/produkt/dorfplatzgespraech-mit-hendrik-hering-und-gabriele-greis/
X-WR-CALDESC:Dorfplatzgespräch mit Hendrik Hering und Gabriele Greis &#8211; nur online
BEGIN:VEVENT
DTSTART;TZID=Europe/Helsinki:20210120T160000
DTEND;TZID=Europe/Helsinki:20210120T180000
SUMMARY:Dorfplatzgespräch mit Hendrik Hering und Gabriele Greis – nur online
DESCRIPTION:
URL:https://mudenbach.com/produkt/dorfplatzgespraech-mit-hendrik-hering-und-gabriele-greis/
LOCATION:
END:VEVENT
END:VCALENDAR
