BEGIN:VCALENDAR
VERSION:2.0
PRODID:-//Mudenbach
CALSCALE:GREGORIAN
METHOD:PUBLISH
X-WR-CALNAME:Mudenbach
X-ORIGINAL-URL:https://mudenbach.com/produkt/st-martin/
X-WR-CALDESC:St. Martin
BEGIN:VEVENT
DTSTART;TZID=Europe/Helsinki:20201112T170000
DTEND;TZID=Europe/Helsinki:20201112T190000
SUMMARY:St. Martin
DESCRIPTION:
URL:https://mudenbach.com/produkt/st-martin/
LOCATION:
END:VEVENT
END:VCALENDAR
