BEGIN:VCALENDAR
VERSION:2.0
PRODID:-//Mudenbach
CALSCALE:GREGORIAN
METHOD:PUBLISH
X-WR-CALNAME:Mudenbach
X-ORIGINAL-URL:https://mudenbach.com/produkt/info-mobil-der-rhenag-vorort/
X-WR-CALDESC:Info-Mobil der rhenag Vorort -an alle Interessierte für einen Erdgasanschluss
BEGIN:VEVENT
DTSTART;TZID=Europe/Helsinki:20201117T130000
DTEND;TZID=Europe/Helsinki:20201117T160000
SUMMARY:Info-Mobil der rhenag Vorort -an alle Interessierte für einen Erdgasanschluss
DESCRIPTION:
URL:https://mudenbach.com/produkt/info-mobil-der-rhenag-vorort/
LOCATION:
END:VEVENT
END:VCALENDAR
