BEGIN:VCALENDAR
VERSION:2.0
PRODID:-//Mudenbach
CALSCALE:GREGORIAN
METHOD:PUBLISH
X-WR-CALNAME:Mudenbach
X-ORIGINAL-URL:https://mudenbach.com/produkt/einladung-zur-jagdgenossenschaftsversammlung/
X-WR-CALDESC:Einladung zur Jagdgenossenschafts-versammlung
BEGIN:VEVENT
DTSTART;TZID=Europe/Helsinki:20201117T190000
DTEND;TZID=Europe/Helsinki:20201117T213000
SUMMARY:Einladung zur Jagdgenossenschafts-versammlung
DESCRIPTION:
URL:https://mudenbach.com/produkt/einladung-zur-jagdgenossenschaftsversammlung/
LOCATION:
END:VEVENT
END:VCALENDAR
