BEGIN:VCALENDAR
VERSION:2.0
PRODID:-//Mudenbach
CALSCALE:GREGORIAN
METHOD:PUBLISH
X-WR-CALNAME:Mudenbach
X-ORIGINAL-URL:https://mudenbach.com/produkt/2-purzelbaum-basar/
X-WR-CALDESC:2. Purzelbaum-Basar
BEGIN:VEVENT
DTSTART;TZID=Europe/Helsinki:20260426T130000
DTEND;TZID=Europe/Helsinki:20260426T183000
SUMMARY:2. Purzelbaum-Basar
DESCRIPTION:
URL:https://mudenbach.com/produkt/2-purzelbaum-basar/
LOCATION:
END:VEVENT
END:VCALENDAR
