BEGIN:VCALENDAR
VERSION:2.0
PRODID:-//Mudenbach
CALSCALE:GREGORIAN
METHOD:PUBLISH
X-WR-CALNAME:Mudenbach
X-ORIGINAL-URL:https://mudenbach.com/produkt/einladung-der-ffw-mudenbach-zum-dart-turnier-am-19-09-2026/
X-WR-CALDESC:Einladung der FFW Mudenbach zum Dart-Turnier am 19.09.2026
BEGIN:VEVENT
DTSTART;TZID=Europe/Helsinki:20260919T140000
DTEND;TZID=Europe/Helsinki:20260919T230000
SUMMARY:Einladung der FFW Mudenbach zum Dart-Turnier am 19.09.2026
DESCRIPTION:
URL:https://mudenbach.com/produkt/einladung-der-ffw-mudenbach-zum-dart-turnier-am-19-09-2026/
LOCATION:
END:VEVENT
END:VCALENDAR
