BEGIN:VCALENDAR
VERSION:2.0
PRODID:-//Mudenbach
CALSCALE:GREGORIAN
METHOD:PUBLISH
X-WR-CALNAME:Mudenbach
X-ORIGINAL-URL:https://mudenbach.com/produkt/familienwandertag-in-mudenbach-2/
X-WR-CALDESC:„Familienwandertag“ in Mudenbach
BEGIN:VEVENT
DTSTART;TZID=Europe/Helsinki:20260509T140000
DTEND;TZID=Europe/Helsinki:20260509T200000
SUMMARY:„Familienwandertag“ in Mudenbach
DESCRIPTION:
URL:https://mudenbach.com/produkt/familienwandertag-in-mudenbach-2/
LOCATION:
END:VEVENT
END:VCALENDAR
