BEGIN:VCALENDAR
VERSION:2.0
PRODID:-//Mudenbach
CALSCALE:GREGORIAN
METHOD:PUBLISH
X-WR-CALNAME:Mudenbach
X-ORIGINAL-URL:https://mudenbach.com/produkt/aktion-saubere-landschaft-2026/
X-WR-CALDESC:Aktion saubere Landschaft 2026
BEGIN:VEVENT
DTSTART;TZID=Europe/Helsinki:20260418T090000
DTEND;TZID=Europe/Helsinki:20260418T130000
SUMMARY:Aktion saubere Landschaft 2026
DESCRIPTION:
URL:https://mudenbach.com/produkt/aktion-saubere-landschaft-2026/
LOCATION:
END:VEVENT
END:VCALENDAR
