BEGIN:VCALENDAR
VERSION:2.0
PRODID:-//Mudenbach
CALSCALE:GREGORIAN
METHOD:PUBLISH
X-WR-CALNAME:Mudenbach
X-ORIGINAL-URL:https://mudenbach.com/produkt/angelverein-av-mudenbach-koenigsangeln-und-sommerfest/
X-WR-CALDESC:Angelverein AV Mudenbach: Königsangeln und Sommerfest
BEGIN:VEVENT
DTSTART;TZID=Europe/Helsinki:20260712T090000
DTEND;TZID=Europe/Helsinki:20260712T220000
SUMMARY:Angelverein AV Mudenbach: Königsangeln und Sommerfest
DESCRIPTION:
URL:https://mudenbach.com/produkt/angelverein-av-mudenbach-koenigsangeln-und-sommerfest/
LOCATION:
END:VEVENT
END:VCALENDAR
