BEGIN:VCALENDAR
VERSION:2.0
PRODID:-//Mudenbach
CALSCALE:GREGORIAN
METHOD:PUBLISH
X-WR-CALNAME:Mudenbach
X-ORIGINAL-URL:https://mudenbach.com/produkt/kirmesgesellschaft-jahreshauptversammlung/
X-WR-CALDESC:Kirmesgesellschaft: Jahreshauptversammlung
BEGIN:VEVENT
DTSTART;TZID=Europe/Helsinki:20261009T190000
DTEND;TZID=Europe/Helsinki:20261009T230000
SUMMARY:Kirmesgesellschaft: Jahreshauptversammlung
DESCRIPTION:
URL:https://mudenbach.com/produkt/kirmesgesellschaft-jahreshauptversammlung/
LOCATION:
END:VEVENT
END:VCALENDAR
