BEGIN:VCALENDAR
VERSION:2.0
PRODID:-//Mudenbach
CALSCALE:GREGORIAN
METHOD:PUBLISH
X-WR-CALNAME:Mudenbach
X-ORIGINAL-URL:https://mudenbach.com/produkt/kirmesgesellschaft-kirmestour/
X-WR-CALDESC:Kirmesgesellschaft: Kirmestour
BEGIN:VEVENT
DTSTART;TZID=Europe/Helsinki:20260711T110000
DTEND;TZID=Europe/Helsinki:20260711T230000
SUMMARY:Kirmesgesellschaft: Kirmestour
DESCRIPTION:
URL:https://mudenbach.com/produkt/kirmesgesellschaft-kirmestour/
LOCATION:
END:VEVENT
END:VCALENDAR
