BEGIN:VCALENDAR
VERSION:2.0
PRODID:-//Mudenbach
CALSCALE:GREGORIAN
METHOD:PUBLISH
X-WR-CALNAME:Mudenbach
X-ORIGINAL-URL:https://mudenbach.com/produkt/kirmesgesellschaft-baum-holen/
X-WR-CALDESC:Kirmesgesellschaft: Baum holen
BEGIN:VEVENT
DTSTART;TZID=Europe/Helsinki:20260704T113000
DTEND;TZID=Europe/Helsinki:20260704T180000
SUMMARY:Kirmesgesellschaft: Baum holen
DESCRIPTION:
URL:https://mudenbach.com/produkt/kirmesgesellschaft-baum-holen/
LOCATION:
END:VEVENT
END:VCALENDAR
