BEGIN:VCALENDAR
VERSION:2.0
PRODID:-//Mudenbach
CALSCALE:GREGORIAN
METHOD:PUBLISH
X-WR-CALNAME:Mudenbach
X-ORIGINAL-URL:https://mudenbach.com/produkt/aktion-saubere-landschaft-2025/
X-WR-CALDESC:Aktion saubere Landschaft 2025
BEGIN:VEVENT
DTSTART;TZID=Europe/Helsinki:20250412T090000
DTEND;TZID=Europe/Helsinki:20250412T130000
SUMMARY:Aktion saubere Landschaft 2025
DESCRIPTION:
URL:https://mudenbach.com/produkt/aktion-saubere-landschaft-2025/
LOCATION:
END:VEVENT
END:VCALENDAR
