BEGIN:VCALENDAR
VERSION:2.0
PRODID:-//Mudenbach
CALSCALE:GREGORIAN
METHOD:PUBLISH
X-WR-CALNAME:Mudenbach
X-ORIGINAL-URL:https://mudenbach.com/produkt/fruehlingsfruehstueck-vom-dorfcafe/
X-WR-CALDESC:Frühlingsfrühstück vom „Dorfcafé“
BEGIN:VEVENT
DTSTART;TZID=Europe/Helsinki:20250406T090000
DTEND;TZID=Europe/Helsinki:20250406T120000
SUMMARY:Frühlingsfrühstück vom „Dorfcafé“
DESCRIPTION:
URL:https://mudenbach.com/produkt/fruehlingsfruehstueck-vom-dorfcafe/
LOCATION:
END:VEVENT
END:VCALENDAR
