BEGIN:VCALENDAR
VERSION:2.0
PRODID:-//Mudenbach
CALSCALE:GREGORIAN
METHOD:PUBLISH
X-WR-CALNAME:Mudenbach
X-ORIGINAL-URL:https://mudenbach.com/produkt/seniorenaktiv-27/
X-WR-CALDESC:SeniorenAktiv
BEGIN:VEVENT
DTSTART;TZID=Europe/Helsinki:20251119T143000
DTEND;TZID=Europe/Helsinki:20251119T163000
SUMMARY:SeniorenAktiv
DESCRIPTION:
URL:https://mudenbach.com/produkt/seniorenaktiv-27/
LOCATION:
END:VEVENT
END:VCALENDAR
