BEGIN:VCALENDAR
VERSION:2.0
PRODID:-//Mudenbach
CALSCALE:GREGORIAN
METHOD:PUBLISH
X-WR-CALNAME:Mudenbach
X-ORIGINAL-URL:https://mudenbach.com/produkt/sprechstunde-64/
X-WR-CALDESC:Sprechstunde
BEGIN:VEVENT
DTSTART;TZID=Europe/Helsinki:20240402T180000
DTEND;TZID=Europe/Helsinki:20240402T190000
SUMMARY:Sprechstunde
DESCRIPTION:
URL:https://mudenbach.com/produkt/sprechstunde-64/
LOCATION:
END:VEVENT
END:VCALENDAR
