BEGIN:VCALENDAR
VERSION:2.0
PRODID:-//Mudenbach
CALSCALE:GREGORIAN
METHOD:PUBLISH
X-WR-CALNAME:Mudenbach
X-ORIGINAL-URL:https://mudenbach.com/produkt/gemeinschaftsuebung-feuerwehr/
X-WR-CALDESC:Gemeinschaftsübung Feuerwehr
BEGIN:VEVENT
DTSTART;TZID=Europe/Helsinki:20230527T090000
DTEND;TZID=Europe/Helsinki:20230527T200000
SUMMARY:Gemeinschaftsübung Feuerwehr
DESCRIPTION:
URL:https://mudenbach.com/produkt/gemeinschaftsuebung-feuerwehr/
LOCATION:
END:VEVENT
END:VCALENDAR
