BEGIN:VCALENDAR
VERSION:2.0
PRODID:-//Mudenbach
CALSCALE:GREGORIAN
METHOD:PUBLISH
X-WR-CALNAME:Mudenbach
X-ORIGINAL-URL:https://mudenbach.com/produkt/seniorenaktiv-lange-nicht-gesehen/
X-WR-CALDESC:SeniorenAktiv „Lange nicht gesehen…“
BEGIN:VEVENT
DTSTART;TZID=Europe/Helsinki:20221221T143000
DTEND;TZID=Europe/Helsinki:20221221T163000
SUMMARY:SeniorenAktiv „Lange nicht gesehen…“
DESCRIPTION:
URL:https://mudenbach.com/produkt/seniorenaktiv-lange-nicht-gesehen/
LOCATION:
END:VEVENT
END:VCALENDAR
