BEGIN:VCALENDAR
VERSION:2.0
PRODID:-//Mudenbach
CALSCALE:GREGORIAN
METHOD:PUBLISH
X-WR-CALNAME:Mudenbach
X-ORIGINAL-URL:https://mudenbach.com/produkt/martinsumzug/
X-WR-CALDESC:Martinsumzug
BEGIN:VEVENT
DTSTART;TZID=Europe/Helsinki:20221104T170000
DTEND;TZID=Europe/Helsinki:20221104T200000
SUMMARY:Martinsumzug
DESCRIPTION:
URL:https://mudenbach.com/produkt/martinsumzug/
LOCATION:
END:VEVENT
END:VCALENDAR
