BEGIN:VCALENDAR
VERSION:2.0
PRODID:-//Mudenbach
CALSCALE:GREGORIAN
METHOD:PUBLISH
X-WR-CALNAME:Mudenbach
X-ORIGINAL-URL:https://mudenbach.com/produkt/7502-jahrfeier-zeltaufbau-2/
X-WR-CALDESC:750+2 Jahrfeier: Dorfcafé
BEGIN:VEVENT
DTSTART;TZID=Europe/Helsinki:20220626T110000
DTEND;TZID=Europe/Helsinki:20220626T170000
SUMMARY:750+2 Jahrfeier: Dorfcafé
DESCRIPTION:
URL:https://mudenbach.com/produkt/7502-jahrfeier-zeltaufbau-2/
LOCATION:
END:VEVENT
END:VCALENDAR
