BEGIN:VCALENDAR
VERSION:2.0
PRODID:-//Mudenbach
CALSCALE:GREGORIAN
METHOD:PUBLISH
X-WR-CALNAME:Mudenbach
X-ORIGINAL-URL:https://mudenbach.com/produkt/hochwasser-und-starkregenvorsorgekonzept/
X-WR-CALDESC:Hochwasser- und Starkregenvorsorgekonzept
BEGIN:VEVENT
DTSTART;TZID=Europe/Helsinki:20220511T180000
DTEND;TZID=Europe/Helsinki:20220511T200000
SUMMARY:Hochwasser- und Starkregenvorsorgekonzept
DESCRIPTION:
URL:https://mudenbach.com/produkt/hochwasser-und-starkregenvorsorgekonzept/
LOCATION:
END:VEVENT
END:VCALENDAR
