BEGIN:VCALENDAR
VERSION:2.0
PRODID:-//Mudenbach
CALSCALE:GREGORIAN
METHOD:PUBLISH
X-WR-CALNAME:Mudenbach
X-ORIGINAL-URL:https://mudenbach.com/produkt/laternenumzug/
X-WR-CALDESC:Laternenumzug
BEGIN:VEVENT
DTSTART;TZID=Europe/Helsinki:20211105T173000
DTEND;TZID=Europe/Helsinki:20211105T193000
SUMMARY:Laternenumzug
DESCRIPTION:
URL:https://mudenbach.com/produkt/laternenumzug/
LOCATION:
END:VEVENT
END:VCALENDAR
