BEGIN:VCALENDAR
VERSION:2.0
PRODID:-//Mudenbach
CALSCALE:GREGORIAN
METHOD:PUBLISH
X-WR-CALNAME:Mudenbach
X-ORIGINAL-URL:https://mudenbach.com/produkt/senioren-aktiv/
X-WR-CALDESC:Senioren aktiv
BEGIN:VEVENT
DTSTART;TZID=Europe/Helsinki:20211103T143000
DTEND;TZID=Europe/Helsinki:20211103T170000
SUMMARY:Senioren aktiv
DESCRIPTION:
URL:https://mudenbach.com/produkt/senioren-aktiv/
LOCATION:
END:VEVENT
END:VCALENDAR
