BEGIN:VCALENDAR
VERSION:2.0
PRODID:-//Mudenbach
CALSCALE:GREGORIAN
METHOD:PUBLISH
X-WR-CALNAME:Mudenbach
X-ORIGINAL-URL:https://mudenbach.com/produkt/senioren-aktiv-es-geht-wieder-los/
X-WR-CALDESC:Senioren aktiv &#8211; Es geht wieder los!
BEGIN:VEVENT
DTSTART;TZID=Europe/Helsinki:20210922T143000
DTEND;TZID=Europe/Helsinki:20210922T170000
SUMMARY:Senioren aktiv – Es geht wieder los!
DESCRIPTION:
URL:https://mudenbach.com/produkt/senioren-aktiv-es-geht-wieder-los/
LOCATION:
END:VEVENT
END:VCALENDAR
