BEGIN:VCALENDAR
VERSION:2.0
PRODID:-//Mudenbach
CALSCALE:GREGORIAN
METHOD:PUBLISH
X-WR-CALNAME:Mudenbach
X-ORIGINAL-URL:https://mudenbach.com/produkt/holzrueckewettbewerb-in-borod-faszination-kaltblut/
X-WR-CALDESC:Holzrückewettbewerb in Borod &#8211; Faszination Kaltblut
BEGIN:VEVENT
DTSTART;TZID=Europe/Helsinki:20210904T100000
DTEND;TZID=Europe/Helsinki:20210905T190000
SUMMARY:Holzrückewettbewerb in Borod – Faszination Kaltblut
DESCRIPTION:
URL:https://mudenbach.com/produkt/holzrueckewettbewerb-in-borod-faszination-kaltblut/
LOCATION:
END:VEVENT
END:VCALENDAR
