BEGIN:VCALENDAR
VERSION:2.0
PRODID:-//Mudenbach
CALSCALE:GREGORIAN
METHOD:PUBLISH
X-WR-CALNAME:Mudenbach
X-ORIGINAL-URL:https://mudenbach.com/produkt/aktion-saubere-landschaft-2021/
X-WR-CALDESC:Aktion saubere Landschaft 2021
BEGIN:VEVENT
DTSTART;TZID=Europe/Helsinki:20210904T090000
DTEND;TZID=Europe/Helsinki:20210904T130000
SUMMARY:Aktion saubere Landschaft 2021
DESCRIPTION:
URL:https://mudenbach.com/produkt/aktion-saubere-landschaft-2021/
LOCATION:
END:VEVENT
END:VCALENDAR
